Package: TSAR Version: 1.4.0 Command: /home/biocbuild/R/R/bin/R CMD INSTALL TSAR StartedAt: 2025-02-03 21:22:07 -0000 (Mon, 03 Feb 2025) EndedAt: 2025-02-03 21:22:21 -0000 (Mon, 03 Feb 2025) EllapsedTime: 14.2 seconds RetCode: 0 Status: OK