Package: TSAR Version: 1.4.0 Command: /home/biocbuild/bbs-3.20-bioc/R/bin/R CMD check --install=check:TSAR.install-out.txt --library=/home/biocbuild/bbs-3.20-bioc/R/site-library --timings TSAR_1.4.0.tar.gz StartedAt: 2025-04-01 03:09:30 -0400 (Tue, 01 Apr 2025) EndedAt: 2025-04-01 03:13:36 -0400 (Tue, 01 Apr 2025) EllapsedTime: 246.3 seconds RetCode: 0 Status: OK CheckDir: TSAR.Rcheck Warnings: 0