Package: TSAR Version: 1.4.0 Command: /Library/Frameworks/R.framework/Resources/bin/R CMD INSTALL TSAR StartedAt: 2025-01-27 18:18:05 -0500 (Mon, 27 Jan 2025) EndedAt: 2025-01-27 18:18:19 -0500 (Mon, 27 Jan 2025) EllapsedTime: 13.8 seconds RetCode: 0 Status: OK