Package: TRONCO Version: 2.38.0 Command: /home/biocbuild/R/R/bin/R CMD INSTALL TRONCO StartedAt: 2025-02-03 21:02:34 -0000 (Mon, 03 Feb 2025) EndedAt: 2025-02-03 21:02:52 -0000 (Mon, 03 Feb 2025) EllapsedTime: 18.6 seconds RetCode: 0 Status: OK