Package: TRONCO Version: 2.38.0 Command: /home/biocbuild/R/R/bin/R CMD build --keep-empty-dirs --no-resave-data TRONCO StartedAt: 2025-02-04 03:41:09 -0000 (Tue, 04 Feb 2025) EndedAt: 2025-02-04 03:43:04 -0000 (Tue, 04 Feb 2025) EllapsedTime: 115.1 seconds RetCode: 0 Status: OK PackageFile: TRONCO_2.38.0.tar.gz PackageFileSize: 3.374 MiB