Package: TRONCO Version: 2.38.0 Command: chmod a+r TRONCO -R && F:\biocbuild\bbs-3.20-bioc\R\bin\R.exe CMD build --keep-empty-dirs --no-resave-data TRONCO StartedAt: 2025-03-31 22:28:34 -0400 (Mon, 31 Mar 2025) EndedAt: 2025-03-31 22:30:33 -0400 (Mon, 31 Mar 2025) EllapsedTime: 119.5 seconds RetCode: 0 Status: OK PackageFile: TRONCO_2.38.0.tar.gz PackageFileSize: 2.742 MiB