Package: TRONCO Version: 2.38.0 Command: /Library/Frameworks/R.framework/Resources/bin/R CMD INSTALL TRONCO StartedAt: 2025-01-27 16:12:13 -0500 (Mon, 27 Jan 2025) EndedAt: 2025-01-27 16:12:48 -0500 (Mon, 27 Jan 2025) EllapsedTime: 34.7 seconds RetCode: 0 Status: OK