Package: TRESS Version: 1.12.0 Command: /home/biocbuild/bbs-3.20-bioc/R/bin/R CMD check --install=check:TRESS.install-out.txt --library=/home/biocbuild/bbs-3.20-bioc/R/site-library --timings TRESS_1.12.0.tar.gz StartedAt: 2025-01-28 04:04:48 -0500 (Tue, 28 Jan 2025) EndedAt: 2025-01-28 04:09:03 -0500 (Tue, 28 Jan 2025) EllapsedTime: 254.2 seconds RetCode: 0 Status: OK CheckDir: TRESS.Rcheck Warnings: 0