Package: TRESS Version: 1.12.0 Command: /Library/Frameworks/R.framework/Resources/bin/R CMD INSTALL TRESS StartedAt: 2025-02-03 15:53:53 -0500 (Mon, 03 Feb 2025) EndedAt: 2025-02-03 15:54:33 -0500 (Mon, 03 Feb 2025) EllapsedTime: 40.7 seconds RetCode: 0 Status: OK