Package: TREG Version: 1.10.0 Command: chmod a+r TREG -R && F:\biocbuild\bbs-3.20-bioc\R\bin\R.exe CMD build --keep-empty-dirs --no-resave-data TREG StartedAt: 2025-01-27 22:29:08 -0500 (Mon, 27 Jan 2025) EndedAt: 2025-01-27 22:31:24 -0500 (Mon, 27 Jan 2025) EllapsedTime: 136.5 seconds RetCode: 0 Status: OK PackageFile: TREG_1.10.0.tar.gz PackageFileSize: 1.665 MiB