Package: TREG Version: 1.10.0 Command: /home/biocbuild/bbs-3.20-bioc/R/bin/R CMD INSTALL TREG StartedAt: 2025-01-27 16:04:19 -0500 (Mon, 27 Jan 2025) EndedAt: 2025-01-27 16:04:38 -0500 (Mon, 27 Jan 2025) EllapsedTime: 18.6 seconds RetCode: 0 Status: OK