Package: TREG Version: 1.10.0 Command: rm -rf TREG.buildbin-libdir && mkdir TREG.buildbin-libdir && /Users/biocbuild/BBS/utils/build-universal.sh TREG_1.10.0.tar.gz /Library/Frameworks/R.framework/Resources/bin/R TREG.buildbin-libdir StartedAt: 2025-01-29 16:57:58 -0500 (Wed, 29 Jan 2025) EndedAt: 2025-01-29 16:58:25 -0500 (Wed, 29 Jan 2025) EllapsedTime: 26.9 seconds RetCode: 0 Status: OK PackageFile: TREG_1.10.0.tgz PackageFileSize: 2.659 MiB