Package: TPP2D Version: 1.22.0 Command: /Library/Frameworks/R.framework/Resources/bin/R CMD check --install=check:TPP2D.install-out.txt --library=/Library/Frameworks/R.framework/Resources/library --no-vignettes --timings TPP2D_1.22.0.tar.gz StartedAt: 2025-02-01 12:14:20 -0500 (Sat, 01 Feb 2025) EndedAt: 2025-02-01 12:16:18 -0500 (Sat, 01 Feb 2025) EllapsedTime: 117.7 seconds RetCode: 0 Status: OK CheckDir: TPP2D.Rcheck Warnings: 0