Package: TPP2D Version: 1.22.0 Command: /Library/Frameworks/R.framework/Resources/bin/R CMD build --keep-empty-dirs --no-resave-data TPP2D StartedAt: 2025-02-04 09:52:21 -0500 (Tue, 04 Feb 2025) EndedAt: 2025-02-04 09:52:59 -0500 (Tue, 04 Feb 2025) EllapsedTime: 38.7 seconds RetCode: 0 Status: OK PackageFile: TPP2D_1.22.0.tar.gz PackageFileSize: 2.3 MiB