Package: TPP Version: 3.34.0 Command: /Library/Frameworks/R.framework/Resources/bin/R CMD INSTALL TPP StartedAt: 2025-02-10 16:33:53 -0500 (Mon, 10 Feb 2025) EndedAt: 2025-02-10 16:34:26 -0500 (Mon, 10 Feb 2025) EllapsedTime: 32.9 seconds RetCode: 0 Status: OK