Package: TOP Version: 1.6.0 Command: /home/biocbuild/R/R/bin/R CMD INSTALL TOP StartedAt: 2025-01-30 21:06:01 -0000 (Thu, 30 Jan 2025) EndedAt: 2025-01-30 21:06:41 -0000 (Thu, 30 Jan 2025) EllapsedTime: 39.6 seconds RetCode: 0 Status: OK