Package: TOP Version: 1.6.0 Command: /Library/Frameworks/R.framework/Resources/bin/R CMD INSTALL TOP StartedAt: 2025-01-30 18:16:29 -0500 (Thu, 30 Jan 2025) EndedAt: 2025-01-30 18:17:05 -0500 (Thu, 30 Jan 2025) EllapsedTime: 35.7 seconds RetCode: 0 Status: OK