Package: TOP Version: 1.6.0 Command: /Library/Frameworks/R.framework/Resources/bin/R CMD build --keep-empty-dirs --no-resave-data TOP StartedAt: 2025-01-31 09:33:55 -0500 (Fri, 31 Jan 2025) EndedAt: 2025-01-31 09:35:34 -0500 (Fri, 31 Jan 2025) EllapsedTime: 99.1 seconds RetCode: 0 Status: OK PackageFile: TOP_1.6.0.tar.gz PackageFileSize: 486.8 KiB