Package: TOAST Version: 1.20.0 Command: rm -rf TOAST.buildbin-libdir && mkdir TOAST.buildbin-libdir && F:\biocbuild\bbs-3.20-bioc\R\bin\R.exe CMD INSTALL --build --library=TOAST.buildbin-libdir TOAST_1.20.0.tar.gz StartedAt: 2025-01-31 09:47:50 -0500 (Fri, 31 Jan 2025) EndedAt: 2025-01-31 09:48:32 -0500 (Fri, 31 Jan 2025) EllapsedTime: 41.8 seconds RetCode: 0 Status: OK PackageFile: TOAST_1.20.0.zip PackageFileSize: 3.363 MiB