Package: TOAST Version: 1.20.0 Command: /home/biocbuild/bbs-3.20-bioc/R/bin/R CMD INSTALL TOAST StartedAt: 2025-03-31 15:17:20 -0400 (Mon, 31 Mar 2025) EndedAt: 2025-03-31 15:17:44 -0400 (Mon, 31 Mar 2025) EllapsedTime: 24.4 seconds RetCode: 0 Status: OK