Package: TOAST Version: 1.20.0 Command: /Library/Frameworks/R.framework/Resources/bin/R CMD INSTALL TOAST StartedAt: 2025-01-30 15:36:19 -0500 (Thu, 30 Jan 2025) EndedAt: 2025-01-30 15:36:51 -0500 (Thu, 30 Jan 2025) EllapsedTime: 31.9 seconds RetCode: 0 Status: OK