Package: TOAST Version: 1.20.0 Command: rm -rf TOAST.buildbin-libdir && mkdir TOAST.buildbin-libdir && /Users/biocbuild/BBS/utils/build-universal.sh TOAST_1.20.0.tar.gz /Library/Frameworks/R.framework/Resources/bin/R TOAST.buildbin-libdir StartedAt: 2025-02-01 17:12:42 -0500 (Sat, 01 Feb 2025) EndedAt: 2025-02-01 17:13:16 -0500 (Sat, 01 Feb 2025) EllapsedTime: 34.1 seconds RetCode: 0 Status: OK PackageFile: TOAST_1.20.0.tgz PackageFileSize: 3.765 MiB