Package: TMixClust Version: 1.28.0 Command: /home/biocbuild/R/R/bin/R CMD INSTALL TMixClust StartedAt: 2025-03-31 21:01:17 -0000 (Mon, 31 Mar 2025) EndedAt: 2025-03-31 21:01:23 -0000 (Mon, 31 Mar 2025) EllapsedTime: 6.1 seconds RetCode: 0 Status: OK