Package: TMixClust Version: 1.28.0 Command: /home/biocbuild/R/R/bin/R CMD check --install=check:TMixClust.install-out.txt --library=/home/biocbuild/R/R/site-library --no-vignettes --timings TMixClust_1.28.0.tar.gz StartedAt: 2025-04-01 11:24:35 -0000 (Tue, 01 Apr 2025) EndedAt: 2025-04-01 11:25:40 -0000 (Tue, 01 Apr 2025) EllapsedTime: 65.1 seconds RetCode: 0 Status: OK CheckDir: TMixClust.Rcheck Warnings: 0