Package: TMixClust Version: 1.28.0 Command: /home/biocbuild/R/R/bin/R CMD build --keep-empty-dirs --no-resave-data TMixClust StartedAt: 2025-01-31 03:13:06 -0000 (Fri, 31 Jan 2025) EndedAt: 2025-01-31 03:13:31 -0000 (Fri, 31 Jan 2025) EllapsedTime: 25.0 seconds RetCode: 0 Status: OK PackageFile: TMixClust_1.28.0.tar.gz PackageFileSize: 492.2 KiB