Package: TMixClust Version: 1.28.0 Command: /home/biocbuild/bbs-3.20-bioc/R/bin/R CMD INSTALL TMixClust StartedAt: 2025-01-30 15:52:23 -0500 (Thu, 30 Jan 2025) EndedAt: 2025-01-30 15:52:30 -0500 (Thu, 30 Jan 2025) EllapsedTime: 6.3 seconds RetCode: 0 Status: OK