Package: TMixClust Version: 1.28.0 Command: /home/biocbuild/bbs-3.20-bioc/R/bin/R CMD check --install=check:TMixClust.install-out.txt --library=/home/biocbuild/bbs-3.20-bioc/R/site-library --timings TMixClust_1.28.0.tar.gz StartedAt: 2025-04-01 02:59:35 -0400 (Tue, 01 Apr 2025) EndedAt: 2025-04-01 03:01:01 -0400 (Tue, 01 Apr 2025) EllapsedTime: 85.1 seconds RetCode: 0 Status: OK CheckDir: TMixClust.Rcheck Warnings: 0