Package: TMixClust Version: 1.28.0 Command: rm -rf TMixClust.buildbin-libdir && mkdir TMixClust.buildbin-libdir && /Users/biocbuild/BBS/utils/build-universal.sh TMixClust_1.28.0.tar.gz /Library/Frameworks/R.framework/Resources/bin/R TMixClust.buildbin-libdir StartedAt: 2025-01-29 16:55:10 -0500 (Wed, 29 Jan 2025) EndedAt: 2025-01-29 16:55:18 -0500 (Wed, 29 Jan 2025) EllapsedTime: 7.7 seconds RetCode: 0 Status: OK PackageFile: TMixClust_1.28.0.tgz PackageFileSize: 741.4 KiB