Package: TMSig Version: 1.0.0 Command: /home/biocbuild/R/R/bin/R CMD INSTALL TMSig StartedAt: 2025-01-30 20:34:37 -0000 (Thu, 30 Jan 2025) EndedAt: 2025-01-30 20:35:02 -0000 (Thu, 30 Jan 2025) EllapsedTime: 24.9 seconds RetCode: 0 Status: OK