Package: TMSig Version: 1.0.0 Command: /Library/Frameworks/R.framework/Resources/bin/R CMD check --install=check:TMSig.install-out.txt --library=/Library/Frameworks/R.framework/Resources/library --no-vignettes --timings TMSig_1.0.0.tar.gz StartedAt: 2025-02-01 12:06:31 -0500 (Sat, 01 Feb 2025) EndedAt: 2025-02-01 12:09:30 -0500 (Sat, 01 Feb 2025) EllapsedTime: 179.2 seconds RetCode: 0 Status: OK CheckDir: TMSig.Rcheck Warnings: 0