Package: TIN Version: 1.38.0 Command: /home/biocbuild/R/R/bin/R CMD check --install=check:TIN.install-out.txt --library=/home/biocbuild/R/R/site-library --no-vignettes --timings TIN_1.38.0.tar.gz StartedAt: 2025-01-28 11:56:21 -0000 (Tue, 28 Jan 2025) EndedAt: 2025-01-28 12:00:10 -0000 (Tue, 28 Jan 2025) EllapsedTime: 229.3 seconds RetCode: 0 Status: OK CheckDir: TIN.Rcheck Warnings: 0