Package: TIN Version: 1.38.0 Command: rm -rf TIN.buildbin-libdir && mkdir TIN.buildbin-libdir && F:\biocbuild\bbs-3.20-bioc\R\bin\R.exe CMD INSTALL --build --library=TIN.buildbin-libdir TIN_1.38.0.tar.gz StartedAt: 2025-02-04 09:41:14 -0500 (Tue, 04 Feb 2025) EndedAt: 2025-02-04 09:41:48 -0500 (Tue, 04 Feb 2025) EllapsedTime: 33.9 seconds RetCode: 0 Status: OK PackageFile: TIN_1.38.0.zip PackageFileSize: 4.561 MiB