Package: TFutils Version: 1.26.0 Command: /home/biocbuild/R/R/bin/R CMD INSTALL TFutils StartedAt: 2025-01-27 21:39:03 -0000 (Mon, 27 Jan 2025) EndedAt: 2025-01-27 21:39:40 -0000 (Mon, 27 Jan 2025) EllapsedTime: 37.4 seconds RetCode: 0 Status: OK