Package: TFutils Version: 1.26.0 Command: /home/biocbuild/R/R/bin/R CMD build --keep-empty-dirs --no-resave-data TFutils StartedAt: 2025-02-04 03:30:37 -0000 (Tue, 04 Feb 2025) EndedAt: 2025-02-04 03:33:45 -0000 (Tue, 04 Feb 2025) EllapsedTime: 188.2 seconds RetCode: 0 Status: OK PackageFile: TFutils_1.26.0.tar.gz PackageFileSize: 5.825 MiB