Package: TFHAZ Version: 1.28.0 Command: /home/biocbuild/R/R/bin/R CMD build --keep-empty-dirs --no-resave-data TFHAZ StartedAt: 2025-01-28 03:48:17 -0000 (Tue, 28 Jan 2025) EndedAt: 2025-01-28 03:49:46 -0000 (Tue, 28 Jan 2025) EllapsedTime: 89.0 seconds RetCode: 0 Status: OK PackageFile: TFHAZ_1.28.0.tar.gz PackageFileSize: 2.481 MiB