Package: TFHAZ Version: 1.28.0 Command: chmod a+r TFHAZ -R && F:\biocbuild\bbs-3.20-bioc\R\bin\R.exe CMD build --keep-empty-dirs --no-resave-data TFHAZ StartedAt: 2025-01-27 22:22:58 -0500 (Mon, 27 Jan 2025) EndedAt: 2025-01-27 22:24:33 -0500 (Mon, 27 Jan 2025) EllapsedTime: 95.3 seconds RetCode: 0 Status: OK PackageFile: TFHAZ_1.28.0.tar.gz PackageFileSize: 2.398 MiB