Package: TFHAZ Version: 1.28.0 Command: /Library/Frameworks/R.framework/Resources/bin/R CMD build --keep-empty-dirs --no-resave-data TFHAZ StartedAt: 2025-02-03 22:53:08 -0500 (Mon, 03 Feb 2025) EndedAt: 2025-02-03 22:55:44 -0500 (Mon, 03 Feb 2025) EllapsedTime: 155.6 seconds RetCode: 0 Status: OK PackageFile: TFHAZ_1.28.0.tar.gz PackageFileSize: 2.516 MiB