Package: TFEA.ChIP Version: 1.26.0 Command: /home/biocbuild/R/R/bin/R CMD check --install=check:TFEA.ChIP.install-out.txt --library=/home/biocbuild/R/R/site-library --no-vignettes --timings TFEA.ChIP_1.26.0.tar.gz StartedAt: 2025-01-31 11:01:18 -0000 (Fri, 31 Jan 2025) EndedAt: 2025-01-31 11:08:48 -0000 (Fri, 31 Jan 2025) EllapsedTime: 450.6 seconds RetCode: 0 Status: OK CheckDir: TFEA.ChIP.Rcheck Warnings: 0