Package: TFEA.ChIP Version: 1.26.0 Command: /home/biocbuild/R/R/bin/R CMD build --keep-empty-dirs --no-resave-data TFEA.ChIP StartedAt: 2025-01-31 03:09:44 -0000 (Fri, 31 Jan 2025) EndedAt: 2025-01-31 03:11:31 -0000 (Fri, 31 Jan 2025) EllapsedTime: 107.1 seconds RetCode: 0 Status: OK PackageFile: TFEA.ChIP_1.26.0.tar.gz PackageFileSize: 5.249 MiB