Package: TFEA.ChIP Version: 1.26.0 Command: F:\biocbuild\bbs-3.20-bioc\R\bin\R.exe CMD INSTALL TFEA.ChIP StartedAt: 2025-01-30 16:08:51 -0500 (Thu, 30 Jan 2025) EndedAt: 2025-01-30 16:09:50 -0500 (Thu, 30 Jan 2025) EllapsedTime: 58.9 seconds RetCode: 0 Status: OK