Package: TFEA.ChIP Version: 1.26.0 Command: chmod a+r TFEA.ChIP -R && F:\biocbuild\bbs-3.20-bioc\R\bin\R.exe CMD build --keep-empty-dirs --no-resave-data TFEA.ChIP StartedAt: 2025-02-03 22:35:09 -0500 (Mon, 03 Feb 2025) EndedAt: 2025-02-03 22:36:59 -0500 (Mon, 03 Feb 2025) EllapsedTime: 109.7 seconds RetCode: 0 Status: OK PackageFile: TFEA.ChIP_1.26.0.tar.gz PackageFileSize: 5.244 MiB