Package: TFBSTools Version: 1.44.0 Command: /home/biocbuild/R/R/bin/R CMD build --keep-empty-dirs --no-resave-data TFBSTools StartedAt: 2025-02-04 03:30:24 -0000 (Tue, 04 Feb 2025) EndedAt: 2025-02-04 03:32:20 -0000 (Tue, 04 Feb 2025) EllapsedTime: 116.1 seconds RetCode: 0 Status: OK PackageFile: TFBSTools_1.44.0.tar.gz PackageFileSize: 517 KiB