Package: TEQC Version: 4.28.0 Command: /home/biocbuild/bbs-3.20-bioc/R/bin/R CMD check --install=check:TEQC.install-out.txt --library=/home/biocbuild/bbs-3.20-bioc/R/site-library --timings TEQC_4.28.0.tar.gz StartedAt: 2025-04-01 02:52:41 -0400 (Tue, 01 Apr 2025) EndedAt: 2025-04-01 02:54:24 -0400 (Tue, 01 Apr 2025) EllapsedTime: 103.1 seconds RetCode: 0 Status: WARNINGS CheckDir: TEQC.Rcheck Warnings: 1