Package: TENxIO Version: 1.8.2 Command: /Library/Frameworks/R.framework/Resources/bin/R CMD build --keep-empty-dirs --no-resave-data TENxIO StartedAt: 2025-01-28 09:21:42 -0500 (Tue, 28 Jan 2025) EndedAt: 2025-01-28 09:22:31 -0500 (Tue, 28 Jan 2025) EllapsedTime: 49.0 seconds RetCode: 1 Status: ERROR PackageFile: None PackageFileSize: NA