Package: TEKRABber Version: 1.10.0 Command: /home/biocbuild/bbs-3.20-bioc/R/bin/R CMD check --install=check:TEKRABber.install-out.txt --library=/home/biocbuild/bbs-3.20-bioc/R/site-library --timings TEKRABber_1.10.0.tar.gz StartedAt: 2025-04-01 02:52:20 -0400 (Tue, 01 Apr 2025) EndedAt: 2025-04-01 03:12:12 -0400 (Tue, 01 Apr 2025) EllapsedTime: 1192.3 seconds RetCode: 0 Status: OK CheckDir: TEKRABber.Rcheck Warnings: 0