Package: TEKRABber Version: 1.10.0 Command: /Library/Frameworks/R.framework/Resources/bin/R CMD INSTALL TEKRABber StartedAt: 2025-03-31 15:45:23 -0400 (Mon, 31 Mar 2025) EndedAt: 2025-03-31 15:46:44 -0400 (Mon, 31 Mar 2025) EllapsedTime: 81.0 seconds RetCode: 0 Status: OK