Package: TDbasedUFEadv Version: 1.6.0 Command: /Library/Frameworks/R.framework/Resources/bin/R CMD INSTALL TDbasedUFEadv StartedAt: 2025-01-30 16:54:21 -0500 (Thu, 30 Jan 2025) EndedAt: 2025-01-30 16:54:21 -0500 (Thu, 30 Jan 2025) EllapsedTime: 0.3 seconds RetCode: 1 Status: ERROR