Package: TDbasedUFEadv Version: 1.6.0 Command: /Library/Frameworks/R.framework/Resources/bin/R CMD check --install=check:TDbasedUFEadv.install-out.txt --library=/Library/Frameworks/R.framework/Resources/library --no-vignettes --timings TDbasedUFEadv_1.6.0.tar.gz StartedAt: 2025-04-01 10:10:58 -0400 (Tue, 01 Apr 2025) EndedAt: 2025-04-01 10:18:09 -0400 (Tue, 01 Apr 2025) EllapsedTime: 431.6 seconds RetCode: 0 Status: OK CheckDir: TDbasedUFEadv.Rcheck Warnings: 0