Package: TDbasedUFEadv Version: 1.6.0 Command: /Library/Frameworks/R.framework/Resources/bin/R CMD build --keep-empty-dirs --no-resave-data TDbasedUFEadv StartedAt: 2025-01-30 23:23:39 -0500 (Thu, 30 Jan 2025) EndedAt: 2025-01-30 23:23:41 -0500 (Thu, 30 Jan 2025) EllapsedTime: 2.3 seconds RetCode: 1 Status: ERROR PackageFile: None PackageFileSize: NA