Package: TDbasedUFEadv Version: 1.6.0 Command: /Library/Frameworks/R.framework/Resources/bin/R CMD INSTALL TDbasedUFEadv StartedAt: 2025-01-27 18:28:58 -0500 (Mon, 27 Jan 2025) EndedAt: 2025-01-27 18:28:58 -0500 (Mon, 27 Jan 2025) EllapsedTime: 0.4 seconds RetCode: 1 Status: ERROR